BEGIN:VCALENDAR
VERSION:2.0
PRODID:-//Aloha Active Noosa - Yoga | Pilates | Massage - ECPv5.3.2.1//NONSGML v1.0//EN
CALSCALE:GREGORIAN
METHOD:PUBLISH
X-WR-CALNAME:Aloha Active Noosa - Yoga | Pilates | Massage
X-ORIGINAL-URL:https://alohactive.com.au
X-WR-CALDESC:Events for Aloha Active Noosa - Yoga | Pilates | Massage
BEGIN:VTIMEZONE
TZID:Australia/Brisbane
BEGIN:STANDARD
TZOFFSETFROM:+1000
TZOFFSETTO:+1000
TZNAME:AEST
DTSTART:20210101T000000
END:STANDARD
END:VTIMEZONE
BEGIN:VEVENT
DTSTART;TZID=Australia/Brisbane:20210305T180000
DTEND;TZID=Australia/Brisbane:20210305T193000
DTSTAMP:20210227T013720
CREATED:20210211T001907Z
LAST-MODIFIED:20210211T002758Z
UID:8152-1614967200-1614972600@alohactive.com.au
SUMMARY:Yin & Yoga Nidra
DESCRIPTION:Yoga Nidra or yogic sleep is a deeply relaxing state of consciousness between waking and sleeping. \nPrice: $25 Members | $35 Non-Members \nRegister Now
URL:https://alohactive.com.au/event/yin-yoga-nidra-5-march/
LOCATION:Aloha Active Noosa\, 16 Noosa Drive\, Noosa Heads\, Queensland\, 4567\, Australia
CATEGORIES:Event
ATTACH;FMTTYPE=image/png:https://alohactive.com.au/wp-content/uploads/2021/02/Yin-Yoga-Nidra-Event-Graphics_050321.png
END:VEVENT
END:VCALENDAR